Workbook
Name WPs: Lijsten!$B$68:$B$77

Sheet Lijsten
A1: Lists
A2: (hide this sheet for applicants)
B4: Thematic Clusters:
A5: 1 | B5: TC01 - Industrial Biotechnology
A6: 2 | B6: TC02 - Agricultural and food biotechnology
A7: 3 | B7: TC03 - ATMPs and biopharmaceuticals
A8: 4 | B8: TC04 - Diagnostics and services
A9: 5 | B9: TC05 - Vaccines & Small Molecules
B11: Project Type:
A12: 1 | B12: Proof of Principle (POP)
A13: 2 | B13: Proof of Concept (POC)
B15: Organization Type: | C15: Activity types:
A16: 1 | B16: Research organization/Knowledge institution | C16: 1,2,3,4
A17: 3 | B17: Large Enterprise | C17: 1,2,3,4
A18: 4 | B18: Medium-sized enterprise | C18: 1,2,3,4,5
A19: 5 | B19: Small enterprise | C19: 1,2,3,4,5
A20: 6 | B20: Startup company cf. art.22 par. 2 GBER | C20: 6
A21: 7 | B21: Innovative company cf. art.2.80 GBER | C21: 6
A22: 2 | B22: Research organization/Knowledge institution - economic activities | C22: 1,2,3,4 | D22: unused
A23: 8 | B23: Other | C23: 1,2,3,4,5 | D23: unused
B25: Cost types:
A26: 1 | B26: Direct personnel costs Non permanent employees
A27: 2 | B27: Direct personnel costs Permanent employees
A28: 3 | B28: Instruments and Equipment
A29: 4 | B29: Materials and tools
A30: 5 | B30: Other goods, work and services
B32: Wage cost system:
A33: 1 | B33: Integral Cost System (IKS)
A34: 2 | B34: Wage costs + fixed markup
A35: 3 | B35: Fixed hourly rate
B37: VAT:
A38: 1 | B38: VAT-liable
A39: 2 | B39: VAT-exempt
B41: Activity Type:
A42: 1 | B42: Fundamental Research (art.25 GBER)
A43: 2 | B43: Industrial Research (art.25 GBER)
A44: 3 | B44: Experimental Development (art.25 GBER)
A45: 4 | B45: Feasibility Studies (art.25 GBER)
A46: 5 | B46: Innovation Activity for SME (art.28 GBER)
A47: 6 | B47: Startup Activity (art.22 GBER)
...

Sheet Regels
A1: Regels subsidiepercentages
A2: (dit tabblad verbergen voor aanvragers)
A4: Code | C4: Organisatie | E4: Activiteit | G4: art 25 6b AGVV (15%) | I4: art 25 6c AGVV (5%) | J4: Subsidiepercentage | K4: POP MAX | L4: POC MAX
A5: 0 | J5: 0
A6: =B6&D6&F6&H6 -> 1111 | B6: 1 | C6: Onderzoeksorganisatie/Kennisinstelling - niet economische activiteiten | D6: 1 | E6: Fundamenteel Onderzoek (art.25 AGVV) | F6: 1 | G6: Ja | H6: 1 | I6: Ja | J6: 1
A7: =B7&D7&F7&H7 -> 1112 | B7: 1 | D7: 1 | F7: 1 | G7: Ja | H7: 2 | I7: Nee | J7: 1
A8: =B8&D8&F8&H8 -> 1121 | B8: 1 | D8: 1 | F8: 2 | G8: Nee | H8: 1 | I8: Ja | J8: 1
A9: =B9&D9&F9&H9 -> 1122 | B9: 1 | D9: 1 | F9: 2 | G9: Nee | H9: 2 | I9: Nee | J9: 1
A10: =B10&D10&F10&H10 -> 1211 | B10: 1 | D10: 2 | E10: Industrieel Onderzoek (art.25 AGVV) | F10: 1 | G10: Ja | H10: 1 | I10: Ja | J10: 1
A11: =B11&D11&F11&H11 -> 1212 | B11: 1 | D11: 2 | F11: 1 | G11: Ja | H11: 2 | I11: Nee | J11: 1
A12: =B12&D12&F12&H12 -> 1221 | B12: 1 | D12: 2 | F12: 2 | G12: Nee | H12: 1 | I12: Ja | J12: 1
A13: =B13&D13&F13&H13 -> 1222 | B13: 1 | D13: 2 | F13: 2 | G13: Nee | H13: 2 | I13: Nee | J13: 1
A14: =B14&D14&F14&H14 -> 1311 | B14: 1 | D14: 3 | E14: Experimentele Ontwikkeling (art.25 AGVV) | F14: 1 | G14: Ja | H14: 1 | I14: Ja | J14: 1
A15: =B15&D15&F15&H15 -> 1312 | B15: 1 | D15: 3 | F15: 1 | G15: Ja | H15: 2 | I15: Nee | J15: 1
A16: =B16&D16&F16&H16 -> 1321 | B16: 1 | D16: 3 | F16: 2 | G16: Nee | H16: 1 | I16: Ja | J16: 1
A17: =B17&D17&F17&H17 -> 1322 | B17: 1 | D17: 3 | F17: 2 | G17: Nee | H17: 2 | I17: Nee | J17: 1
A18: =B18&D18&F18&H18 -> 1411 | B18: 1 | D18: 4 | E18: Haalbaarheidsstudie (art.25 AGVV) | F18: 1 | G18: Ja | H18: 1 | I18: Ja | J18: 1
A19: =B19&D19&F19&H19 -> 1412 | B19: 1 | D19: 4 | F19: 1 | G19: Ja | H19: 2 | I19: Nee | J19: 1
A20: =B20&D20&F20&H20 -> 1421 | B20: 1 | D20: 4 | F20: 2 | G20: Nee | H20: 1 | I20: Ja | J20: 1
A21: =B21&D21&F21&H21 -> 1422 | B21: 1 | D21: 4 | F21: 2 | G21: Nee | H21: 2 | I21: Nee | J21: 1
A22: =B22&D22&F22&H22 -> 2111 | B22: 2 | C22: Onderzoeksorganisatie/Kennisinstelling - economische activiteiten | D22: 1 | E22: Fundamenteel Onderzoek (art.25 AGVV) | F22: 1 | G22: Ja | H22: 1 | I22: Ja | J22: 1
A23: =B23&D23&F23&H23 -> 2112 | B23: 2 | D23: 1 | F23: 1 | G23: Ja | H23: 2 | I23: Nee | J23: 1
A24: =B24&D24&F24&H24 -> 2121 | B24: 2 | D24: 1 | F24: 2 | G24: Nee | H24: 1 | I24: Ja | J24: 1
A25: =B25&D25&F25&H25 -> 2122 | B25: 2 | D25: 1 | F25: 2 | G25: Nee | H25: 2 | I25: Nee | J25: 1
A26: =B26&D26&F26&H26 -> 2211 | B26: 2 | D26: 2 | E26: Industrieel Onderzoek (art.25 AGVV) | F26: 1 | G26: Ja | H26: 1 | I26: Ja | J26: 0.65
A27: =B27&D27&F27&H27 -> 2212 | B27: 2 | D27: 2 | F27: 1 | G27: Ja | H27: 2 | I27: Nee | J27: 0.65
A28: =B28&D28&F28&H28 -> 2221 | B28: 2 | D28: 2 | F28: 2 | G28: Nee | H28: 1 | I28: Ja | J28: 0.55
A29: =B29&D29&F29&H29 -> 2222 | B29: 2 | D29: 2 | F29: 2 | G29: Nee | H29: 2 | I29: Nee | J29: 0.5
A30: =B30&D30&F30&H30 -> 2311 | B30: 2 | D30: 3 | E30: Experimentele Ontwikkeling (art.25 AGVV) | F30: 1 | G30: Ja | H30: 1 | I30: Ja | J30: 0.4
A31: =B31&D31&F31&H31 -> 2312 | B31: 2 | D31: 3 | F31: 1 | G31: Ja | H31: 2 | I31: Nee | J31: 0.4
A32: =B32&D32&F32&H32 -> 2321 | B32: 2 | D32: 3 | F32: 2 | G32: Nee | H32: 1 | I32: Ja | J32: 0.3
A33: =B33&D33&F33&H33 -> 2322 | B33: 2 | D33: 3 | F33: 2 | G33: Nee | H33: 2 | I33: Nee | J33: 0.25
A34: =B34&D34&F34&H34 -> 2411 | B34: 2 | D34: 4 | E34: Haalbaarheidsstudie (art.25 AGVV) | F34: 1 | G34: Ja | H34: 1 | I34: Ja | J34: 0.5
A35: =B35&D35&F35&H35 -> 2412 | B35: 2 | D35: 4 | F35: 1 | G35: Ja | H35: 2 | I35: Nee | J35: 0.5
A36: =B36&D36&F36&H36 -> 2421 | B36: 2 | D36: 4 | F36: 2 | G36: Nee | H36: 1 | I36: Ja | J36: 0.5
A37: =B37&D37&F37&H37 -> 2422 | B37: 2 | D37: 4 | F37: 2 | G37: Nee | H37: 2 | I37: Nee | J37: 0.5
A38: =B38&D38&F38&H38 -> 3111 | B38: 3 | C38: Grote onderneming | D38: 1 | E38: Fundamenteel Onderzoek (art.25 AGVV) | F38: 1 | G38: Ja | H38: 1 | I38: Ja | J38: 1
A39: =B39&D39&F39&H39 -> 3112 | B39: 3 | D39: 1 | F39: 1 | G39: Ja | H39: 2 | I39: Nee | J39: 1
A40: =B40&D40&F40&H40 -> 3121 | B40: 3 | D40: 1 | F40: 2 | G40: Nee | H40: 1 | I40: Ja | J40: 1
A41: =B41&D41&F41&H41 -> 3122 | B41: 3 | D41: 1 | F41: 2 | G41: Nee | H41: 2 | I41: Nee | J41: 1
...

Sheet Notes
A1: Explanatory notes
A4: Short Budget Form for preliminary grant application Biotech Booster, version EN2.09 date 08-10-2026
A6: This is the simplified budget form for your preliminary grant application for a Proof of Principle (POP) or Proof of Concept (POC) project under the Biotech Booster grant program. The Biotech Booster program receives support from the Dutch National Growth Fund.
A8: Complete the short budget form using the following process and order:
A9: First read the entire explanation on this page and then follow the next steps:
A11: STEP 1
A12: Enter general project details and project partners on Sheet Project
A13: STEP 2
A14: Budget the costs by project partner on Sheets PP01 to PP03
A15: STEP 3
A16: Check the requested grant against the grant requirements on Sheet Check
A17: STEP 4
... A101: A1. Direct Personnel cost own personnel for the project:
A102: ="Please indicate per line the use of own personnel for the project and include:"&CHAR(10)&"Activity Type selection, Cost description, Full Time Equivalent (FTE), "&CHAR(10)& "if POC: Employment status (Employed or To be recruited), or "&CHAR(10)& "if POP: Appointment (Permanent/Temporary for own personnel in permanent employment and own personnel not in permanent employment respectively), "&CHAR(10)&"and Total Costs."&CHAR(10)&"This cost item includes only employees who are on the payroll. " -> Please indicate per line the use of own personnel for the project and include: Activity Type selection, Cost description, Full Time Equivalent (FTE), if POC: Employment status (Employed or To be recruited), or if POP: Appointment (Permanent/Temporary for own personnel in permanent employment and own personnel not in permanent employment respectively), and Total Costs. This cost item includes only employees who are on the payroll.
A103: Eligibility of direct personnel costs:
A104: For Proof of Principle projects, the maximum grant for personnel costs of own personnel not in permanent employment is 1/3rd of the total project costs. This is calculated at the project level for all project partners collectively.
A105: For Proof of Principle projects, the personnel costs of own permanent staff are not eligible. These costs do however count when determining the total project costs in the previous section. For this reason, it may be relevant to include these costs in the budget.
A106: For Proof of Concept projects, personnel costs of own personnel (permanent + non-permanent) are eligible up to a maximum of €600.000,-. This is calculated at the project level for all project partners collectively. If the consortium exceeds this maximum, the allocation of the grant should be determined between the partners.
A107: The personnel costs of Biotech Booster B.V. are not eligible in Proof of Concept projects.
A109: A2. Costs of own Instruments and Equipment
A110: Provide in the budget per line: A clear description of the costs and also mention if the instruments and equipment are purchased especially for the project or if use is made of existing equipment and equipment. Only depreciation costs are eligible for the subsidy. Depreciation costs represent the depreciation of capital assets, such as equipment, instruments, machinery or vehicles, used for the project. Only the share of depreciation attributable to the project implementation period and the actual project use of the asset is eligible, based on its purchase value, residual value and a depreciation period (minimum 5 years). Provide in the budget per line: Activity Type selection, Total Depreciation Costs in the project.
A111: A3. Costs of own Materials and tools for the project
A112: Budget here the materials and tools from stock that you are using for the project. You can include the cost of consumption of materials, which were not purchased specifically for the project, if you record consumption. In doing so, you must assume historical purchase prices. If you do not have records of the consumption of materials from stock, then you cannot attribute the cost directly to the project.
A113: You can include the cost of materials you purchase specifically for a project in the budget under the third-party cost item. Indicate in the budget per line: Activity Type selection, Cost description, Total Costs.
A115: A4. Costs for Other goods, work and services
A116: Third party costs refers to all (other) costs for which you receive an invoice and are directly related to the execution of the project. This includes costs for activities you outsource and for purchasing materials and resources specifically for the project. These are costs for which the amount can be proven on the basis of an invoice. Examples of third party costs may include: purchase of materials, costs for consulting and equivalent services, costs for contract research, knowledge and patents (Note: Purchase costs for acquiring and maintaining intellectual property rights are not eligible for proof of principle projects), costs associated with innovation services and support, secondment costs, other operational expenses.
... A158: On the Project Budget sheet, the total Project Budget is compiled based on the underlying budgets per project partner and the Check sheet. Based on the grant regulations, additional criteria regarding grant funding apply at the project level. From this the eligible project costs are calculated and the maximum grant at the project level.

Sheet Project
A1: STEP 1
A2: Enter general project details and project partners
A3: Project details
A6: Project ID:
A7: Thematic Cluster: | K7: 1 | L7: =Lijsten!$B5 -> TC01 - Industrial Biotechnology
K8: 2 | L8: =Lijsten!$B6 -> TC02 - Agricultural and food biotechnology
A9: Project Type: | C9: Proof of Concept (POC) | K9: 3 | L9: =Lijsten!$B7 -> TC03 - ATMPs and biopharmaceuticals
A10: Project Name: | K10: 4 | L10: =Lijsten!$B8 -> TC04 - Diagnostics and services
K11: 5 | L11: =Lijsten!$B9 -> TC05 - Vaccines & Small Molecules
A12: Project Duration
A13: Start date: | L13: Project Type:
A14: End date: | D14: =IF($C$14-$C$13>731,"Maximum duration is 24 months!","") | K14: 1 | L14: =Lijsten!$B12 -> Proof of Principle (POP)
K15: 2 | L15: =Lijsten!$B13 -> Proof of Concept (POC)
A16: Project Partners: | C16: Organization Name: | E16: Organization Type:
A17: 1 | B17: Main Applicant: | C17: Biotech Booster B.V. | E17: Research organization/Knowledge institution | L17: Organization Type:
A18: 2 | B18: Project Partner: | K18: 1 | L18: =Lijsten!$B16 -> Research organization/Knowledge institution
A19: 3 | B19: Project Partner: | K19: 3 | L19: =Lijsten!$B17 -> Large Enterprise
A20: 4 | B20: Project Partner: | K20: 4 | L20: =Lijsten!$B18 -> Medium-sized enterprise
A21: 5 | B21: Project Partner: | K21: 5 | L21: =Lijsten!$B19 -> Small enterprise
A22: 6 | B22: Project Partner: | K22: 6 | L22: =Lijsten!$B20 -> Startup company cf. art.22 par. 2 GBER
A23: 7 | B23: Project Partner: | K23: 7 | L23: =Lijsten!$B21 -> Innovative company cf. art.2.80 GBER
A24: 8 | B24: Project Partner:
A25: 9 | B25: Project Partner:
A26: 10 | B26: Project Partner:
L27: Ja/Nee:
K28: 1 | L28: =Lijsten!$B64 -> Yes
A29: Additional questions for determining the grant rate: | K29: 2 | L29: =Lijsten!$B65 -> No
A30: 1 | B30: Are at least one of the conditions referred to in Section 25(6)(b) of the General Block Exemption Regulation (GBER) met? | D30: No | E30: Note: If there is Industrial Research and/or Experimental Development in the project, the grant for these activities may be increased by 15% if one of the following conditions is fulfilled: (i) the project involves effective collaboration: — between undertakings among which at least one is an SME, or is carried out in at least two Member States, or in a Member State and in a Contracting Party of the EEA Agreement, and no single undertaking bears more than 70 % of the eligible costs, or — between an undertaking and one or more research and knowledge-dissemination organizations, where the latter bear at least 10 % of the eligible costs and have the right to publish their own research results; (ii) the results of the project are widely disseminated through conferences, publication, open access repositories, or free or open source software; (iii) the beneficiary commits to, on a timely basis, make available licenses for research results of aided research and development projects, which are protected by intellectual property rights, at a market price and on non-exclusive and non-discriminatory basis for use by interested parties in the EEA;
A33: 2 | B33: Is the condition referred to in Article 25, paragraph 6 (c) of the General Block Exemption Regulation (GBER) met? | D33: No | E33: Note: If there is Industrial Research and/or Experimental Development in the project, the grant for these activities may be increased by 5% if the research and development project is carried out in an assisted region fulfilling the conditions of Article 107(3), point (c), of the Treaty;
A36: Go to Worksheet PP01 for step 2

Sheet WPS
A1: STEP 2
A2: List the Work Packages
A3: Work Packages
B5: Project Number: | C5: =IF(Project!#REF!="","",Project!#REF!) -> #REF! | D5: =IF(Project!#REF!="","",Project!#REF!) -> #REF!
B6: Project Type: | C6: =IF(Project!$C$9="","",Project!$C$9) -> Proof of Concept (POC)
B7: Project Name: | C7: =IF(Project!$C$10="","",Project!$C$10)
A10: WP | B10: Title Work Package
A11: WP01
A12: WP02
A13: WP03
A14: WP04
A15: WP05
A16: WP06
A17: WP07
A18: WP08
A19: WP09
A20: WP10
B24: Required fields
B25: Optional fields
B26: Automatically calculated fields
A30: Go to Worksheet PP01 for step 3

Sheet PP01
A1: STEP 2
A2: Complete budget of costs by project partner
A3: Budget per project partner
C5: Project ID: | F5: =IF(Project!$D$6="","",Project!$D$6)
C6: Project Type: | D6: =IF(Project!$C$9="","",Project!$C$9) -> Proof of Concept (POC) | S6: Project Type | T6: =IFERROR(INDEX(Lijsten!$A$12:$B$13,MATCH($D$6,Lijsten!$B$12:$B$13,0),1),"") -> 2
C7: Project Name: | D7: =IF(Project!$C$10="","",Project!$C$10)
C9: Main Applicant Organization Name: | D9: =IF(Project!$C$17="","",Project!$C$17) -> Biotech Booster B.V. | S9: Is BB BV? | T9: =IF(ISERROR(SEARCH("Biotech Booster",D9)),0,1) -> 1
C10: Organization Type: | D10: =IF(Project!$E$17="","",Project!$E$17) -> Research organization/Knowledge institution | S10: Organization Type | T10: =IFERROR(INDEX(Lijsten!$A$16:$B$23,MATCH($D$10,Lijsten!$B$16:$B$23,0),1),"") -> 1
S12: art 25 6b GBER (15%) | T12: =INDEX(Lijsten!$A$64:$B$65,MATCH(Project!$D$30,Lijsten!$B$64:$B$65,0),1) -> 2
A13: A. OVERVIEW OF COSTS | S13: art 25 6c GBER (5%) | T13: =INDEX(Lijsten!$A$64:$B$65,MATCH(Project!$D$33,Lijsten!$B$64:$B$65,0),1) -> 2
A15: A1. Direct Personnel costs | Q15: =IFERROR(IF(AND(#REF!=3,SUM(#REF!)/COUNT(#REF!)>60),"Max €60,00",""),"")
A16: No. | B16: WP | C16: Activity Type | D16: Cost description | H16: FTE | I16: =IF($T$6=1,"Appointment",IF($T$6=2,"Employment status","")) -> Employment status | J16: Costs Year 1 | K16: Costs Year 2 | L16: Total Costs | S16: Activity Type | T16: Empty | U16: Empty | V16: Empty | W16: Empty | X16: Empty | Y16: Not fully completed | Z16: These are auxiliary cells to automatically adjust the height of the rows based on the input. Do not delete them!
A17: 1 | L17: =+J17+K17 -> 0 | S17: =IFERROR(INDEX(Lijsten!$A$42:$B$47,MATCH($C17,Lijsten!$B$42:$B$47,0),1),0) -> 0 | Y17: =IF(AND($L17>0,OR($B17="",$C17="",$I17="")),1,0) -> 0 | Z17: =+C17 -> 0 | AA17: =D17 -> 0
A18: 2 | L18: =+J18+K18 -> 0 | S18: =IFERROR(INDEX(Lijsten!$A$42:$B$47,MATCH($C18,Lijsten!$B$42:$B$47,0),1),0) -> 0 | Y18: =IF(AND($L18>0,OR($B18="",$C18="",$I18="")),1,0) -> 0 | Z18: =+C18 -> 0 | AA18: =D18 -> 0
A19: 3 | L19: =+J19+K19 -> 0 | S19: =IFERROR(INDEX(Lijsten!$A$42:$B$47,MATCH($C19,Lijsten!$B$42:$B$47,0),1),0) -> 0 | Y19: =IF(AND($L19>0,OR($B19="",$C19="",$I19="")),1,0) -> 0 | Z19: =+C19 -> 0 | AA19: =D19 -> 0
A20: 4 | L20: =+J20+K20 -> 0 | S20: =IFERROR(INDEX(Lijsten!$A$42:$B$47,MATCH($C20,Lijsten!$B$42:$B$47,0),1),0) -> 0 | Y20: =IF(AND($L20>0,OR($B20="",$C20="",$I20="")),1,0) -> 0 | Z20: =+C20 -> 0 | AA20: =D20 -> 0
A21: 5 | L21: =+J21+K21 -> 0 | S21: =IFERROR(INDEX(Lijsten!$A$42:$B$47,MATCH($C21,Lijsten!$B$42:$B$47,0),1),0) -> 0 | Y21: =IF(AND($L21>0,OR($B21="",$C21="",$I21="")),1,0) -> 0 | Z21: =+C21 -> 0 | AA21: =D21 -> 0
A22: 6 | L22: =+J22+K22 -> 0 | S22: =IFERROR(INDEX(Lijsten!$A$42:$B$47,MATCH($C22,Lijsten!$B$42:$B$47,0),1),0) -> 0 | Y22: =IF(AND($L22>0,OR($B22="",$C22="",$I22="")),1,0) -> 0 | Z22: =+C22 -> 0 | AA22: =D22 -> 0
A23: 7 | L23: =+J23+K23 -> 0 | S23: =IFERROR(INDEX(Lijsten!$A$42:$B$47,MATCH($C23,Lijsten!$B$42:$B$47,0),1),0) -> 0 | Y23: =IF(AND($L23>0,OR($B23="",$C23="",$I23="")),1,0) -> 0 | Z23: =+C23 -> 0 | AA23: =D23 -> 0
A24: 8 | L24: =+J24+K24 -> 0 | S24: =IFERROR(INDEX(Lijsten!$A$42:$B$47,MATCH($C24,Lijsten!$B$42:$B$47,0),1),0) -> 0 | Y24: =IF(AND($L24>0,OR($B24="",$C24="",$I24="")),1,0) -> 0 | Z24: =+C24 -> 0 | AA24: =D24 -> 0
A25: 9 | L25: =+J25+K25 -> 0 | S25: =IFERROR(INDEX(Lijsten!$A$42:$B$47,MATCH($C25,Lijsten!$B$42:$B$47,0),1),0) -> 0 | Y25: =IF(AND($L25>0,OR($B25="",$C25="",$I25="")),1,0) -> 0 | Z25: =+C25 -> 0 | AA25: =D25 -> 0
A26: 10 | L26: =+J26+K26 -> 0 | S26: =IFERROR(INDEX(Lijsten!$A$42:$B$47,MATCH($C26,Lijsten!$B$42:$B$47,0),1),0) -> 0 | Y26: =IF(AND($L26>0,OR($B26="",$C26="",$I26="")),1,0) -> 0 | Z26: =+C26 -> 0 | AA26: =D26 -> 0
A27: SUBTOTAL DIRECT PERSONNEL COSTS | J27: =SUM(J17:J26) -> 0 | K27: =SUM(K17:K26) -> 0 | L27: =SUM(L17:L26) -> 0
L28: =IF(AND($T$6=2,L27>600000),"Note: No more than €600.000,- of the collaborative partners' personnel costs is eligible","")
A29: A2. Cost of own instruments and equipment for the project
A30: No. | B30: WP | C30: Activity Type | D30: Cost description | J30: Costs Year 1 | K30: Costs Year 2 | L30: Total Depreciation Costs | S30: Activity Type | T30: Empty | U30: Empty | V30: End date depreciation | W30: Max number of hours depreciation in Year 1 | X30: Max number of hours depreciation in Year 2 | Y30: Not fully completed
A31: 1 | L31: =+J31+K31 -> 0 | S31: =IFERROR(INDEX(Lijsten!$A$42:$B$47,MATCH($C31,Lijsten!$B$42:$B$47,0),1),0) -> 0 | V31: =IF(#REF!<>"",+#REF!+#REF!*365.25,"") -> #REF! | W31: =MAX((MIN($V$31,Project!$C$13+365)-Project!$C$13)*#REF!/365,0) -> #REF! | X31: =MAX((MIN($V$31,Project!$C$14)-(Project!$C$13+365-1))*#REF!/365,0) -> #REF! | Y31: =IF(AND($L31>0,OR($B31="",$C31="")),1,0) -> 0 | Z31: =+C31 -> 0 | AB31: =D31 -> 0
A32: 2 | L32: =+J32+K32 -> 0 | S32: =IFERROR(INDEX(Lijsten!$A$42:$B$47,MATCH($C32,Lijsten!$B$42:$B$47,0),1),0) -> 0 | V32: =IF(#REF!<>"",+#REF!+#REF!*365.25,"") -> #REF! | W32: =MAX((MIN($V$31,Project!$C$13+365)-Project!$C$13)*#REF!/365,0) -> #REF! | X32: =MAX((MIN($V$31,Project!$C$14)-(Project!$C$13+365-1))*#REF!/365,0) -> #REF! | Y32: =IF(AND($L32>0,OR($B32="",$C32="")),1,0) -> 0 | Z32: =+C32 -> 0 | AB32: =D32 -> 0
A33: 3 | L33: =+J33+K33 -> 0 | S33: =IFERROR(INDEX(Lijsten!$A$42:$B$47,MATCH($C33,Lijsten!$B$42:$B$47,0),1),0) -> 0 | V33: =IF(#REF!<>"",+#REF!+#REF!*365.25,"") -> #REF! | W33: =MAX((MIN($V$31,Project!$C$13+365)-Project!$C$13)*#REF!/365,0) -> #REF! | X33: =MAX((MIN($V$31,Project!$C$14)-(Project!$C$13+365-1))*#REF!/365,0) -> #REF! | Y33: =IF(AND($L33>0,OR($B33="",$C33="")),1,0) -> 0 | Z33: =+C33 -> 0 | AB33: =D33 -> 0
A34: 4 | L34: =+J34+K34 -> 0 | S34: =IFERROR(INDEX(Lijsten!$A$42:$B$47,MATCH($C34,Lijsten!$B$42:$B$47,0),1),0) -> 0 | V34: =IF(#REF!<>"",+#REF!+#REF!*365.25,"") -> #REF! | W34: =MAX((MIN($V$31,Project!$C$13+365)-Project!$C$13)*#REF!/365,0) -> #REF! | X34: =MAX((MIN($V$31,Project!$C$14)-(Project!$C$13+365-1))*#REF!/365,0) -> #REF! | Y34: =IF(AND($L34>0,OR($B34="",$C34="")),1,0) -> 0 | Z34: =+C34 -> 0 | AB34: =D34 -> 0
A35: 5 | L35: =+J35+K35 -> 0 | S35: =IFERROR(INDEX(Lijsten!$A$42:$B$47,MATCH($C35,Lijsten!$B$42:$B$47,0),1),0) -> 0 | V35: =IF(#REF!<>"",+#REF!+#REF!*365.25,"") -> #REF! | W35: =MAX((MIN($V$31,Project!$C$13+365)-Project!$C$13)*#REF!/365,0) -> #REF! | X35: =MAX((MIN($V$31,Project!$C$14)-(Project!$C$13+365-1))*#REF!/365,0) -> #REF! | Y35: =IF(AND($L35>0,OR($B35="",$C35="")),1,0) -> 0 | Z35: =+C35 -> 0 | AB35: =D35 -> 0
A36: SUBTOTAL COST OF OWN INSTRUMENTS AND EQUIPMENT | J36: =SUM(J31:J35) -> 0 | K36: =SUM(K31:K35) -> 0 | L36: =SUM(L31:L35) -> 0
A38: A3. Cost of own materials and tools
A39: No. | B39: WP | C39: Activity Type | D39: Cost description | J39: Costs Year 1 | K39: Costs Year 2 | L39: Total Costs | S39: Activity Type | T39: Empty | U39: Empty | V39: Empty | W39: Empty | X39: Empty | Y39: Not fully completed
A40: 1 | L40: =+J40+K40 -> 0 | S40: =IFERROR(INDEX(Lijsten!$A$42:$B$47,MATCH($C40,Lijsten!$B$42:$B$47,0),1),0) -> 0 | Y40: =IF(AND($L40>0,OR($B40="",$C40="")),1,0) -> 0 | Z40: =+C40 -> 0 | AB40: =D40 -> 0
A41: 2 | L41: =+J41+K41 -> 0 | S41: =IFERROR(INDEX(Lijsten!$A$42:$B$47,MATCH($C41,Lijsten!$B$42:$B$47,0),1),0) -> 0 | Y41: =IF(AND($L41>0,OR($B41="",$C41="")),1,0) -> 0 | Z41: =+C41 -> 0 | AB41: =D41 -> 0
A42: 3 | L42: =+J42+K42 -> 0 | S42: =IFERROR(INDEX(Lijsten!$A$42:$B$47,MATCH($C42,Lijsten!$B$42:$B$47,0),1),0) -> 0 | Y42: =IF(AND($L42>0,OR($B42="",$C42="")),1,0) -> 0 | Z42: =+C42 -> 0 | AB42: =D42 -> 0
A43: 4 | L43: =+J43+K43 -> 0 | S43: =IFERROR(INDEX(Lijsten!$A$42:$B$47,MATCH($C43,Lijsten!$B$42:$B$47,0),1),0) -> 0 | Y43: =IF(AND($L43>0,OR($B43="",$C43="")),1,0) -> 0 | Z43: =+C43 -> 0 | AB43: =D43 -> 0
A44: 5 | L44: =+J44+K44 -> 0 | S44: =IFERROR(INDEX(Lijsten!$A$42:$B$47,MATCH($C44,Lijsten!$B$42:$B$47,0),1),0) -> 0 | Y44: =IF(AND($L44>0,OR($B44="",$C44="")),1,0) -> 0 | Z44: =+C44 -> 0 | AB44: =D44 -> 0
A45: SUBTOTAL COST OF OWN MATERIALS AND TOOLS | J45: =SUM(J40:J44) -> 0 | K45: =SUM(K40:K44) -> 0 | L45: =SUM(L40:L44) -> 0
...

Sheet PP02
A1: STEP 2
A2: Complete budget of costs by project partner
A3: Budget per project partner
C5: Project ID: | F5: =IF(Project!$D$6="","",Project!$D$6)
C6: Project Type: | D6: =IF(Project!$C$9="","",Project!$C$9) -> Proof of Concept (POC) | S6: Project Type | T6: =IFERROR(INDEX(Lijsten!$A$12:$B$13,MATCH($D$6,Lijsten!$B$12:$B$13,0),1),"") -> 2
C7: Project Name: | D7: =IF(Project!$C$10="","",Project!$C$10)
C9: Project Partner Organization Name: | D9: =IF(Project!$C$18="","",Project!$C$18) | S9: Is BB BV? | T9: =IF(ISERROR(SEARCH("Biotech Booster",D9)),0,1) -> 0
C10: Organization Type: | D10: =IF(Project!$E$18="","",Project!$E$18) | S10: Organization Type | T10: =IFERROR(INDEX(Lijsten!$A$16:$B$23,MATCH($D$10,Lijsten!$B$16:$B$23,0),1),"")
S12: art 25 6b GBER (15%) | T12: =INDEX(Lijsten!$A$64:$B$65,MATCH(Project!$D$30,Lijsten!$B$64:$B$65,0),1) -> 2
A13: A. OVERVIEW OF COSTS | S13: art 25 6c GBER (5%) | T13: =INDEX(Lijsten!$A$64:$B$65,MATCH(Project!$D$33,Lijsten!$B$64:$B$65,0),1) -> 2
A15: A1. Direct Personnel costs | Q15: =IFERROR(IF(AND(#REF!=3,SUM(#REF!)/COUNT(#REF!)>60),"Max €60,00",""),"")
A16: No. | B16: WP | C16: Activity Type | D16: Cost description | H16: FTE | I16: =IF($T$6=1,"Appointment",IF($T$6=2,"Employment status","")) -> Employment status | J16: Costs Year 1 | K16: Costs Year 2 | L16: Total Costs | S16: Activity Type | T16: Empty | U16: Empty | V16: Empty | W16: Empty | X16: Empty | Y16: Not fully completed | Z16: These are auxiliary cells to automatically adjust the height of the rows based on the input. Do not delete them!
A17: 1 | L17: =+J17+K17 -> 0 | S17: =IFERROR(INDEX(Lijsten!$A$42:$B$47,MATCH($C17,Lijsten!$B$42:$B$47,0),1),0) -> 0 | Y17: =IF(AND($L17>0,OR($B17="",$C17="",$I17="")),1,0) -> 0 | Z17: =+C17 -> 0 | AA17: =D17 -> 0
A18: 2 | L18: =+J18+K18 -> 0 | S18: =IFERROR(INDEX(Lijsten!$A$42:$B$47,MATCH($C18,Lijsten!$B$42:$B$47,0),1),0) -> 0 | Y18: =IF(AND($L18>0,OR($B18="",$C18="",$I18="")),1,0) -> 0 | Z18: =+C18 -> 0 | AA18: =D18 -> 0
A19: 3 | L19: =+J19+K19 -> 0 | S19: =IFERROR(INDEX(Lijsten!$A$42:$B$47,MATCH($C19,Lijsten!$B$42:$B$47,0),1),0) -> 0 | Y19: =IF(AND($L19>0,OR($B19="",$C19="",$I19="")),1,0) -> 0 | Z19: =+C19 -> 0 | AA19: =D19 -> 0
A20: 4 | L20: =+J20+K20 -> 0 | S20: =IFERROR(INDEX(Lijsten!$A$42:$B$47,MATCH($C20,Lijsten!$B$42:$B$47,0),1),0) -> 0 | Y20: =IF(AND($L20>0,OR($B20="",$C20="",$I20="")),1,0) -> 0 | Z20: =+C20 -> 0 | AA20: =D20 -> 0
A21: 5 | L21: =+J21+K21 -> 0 | S21: =IFERROR(INDEX(Lijsten!$A$42:$B$47,MATCH($C21,Lijsten!$B$42:$B$47,0),1),0) -> 0 | Y21: =IF(AND($L21>0,OR($B21="",$C21="",$I21="")),1,0) -> 0 | Z21: =+C21 -> 0 | AA21: =D21 -> 0
A22: 6 | L22: =+J22+K22 -> 0 | S22: =IFERROR(INDEX(Lijsten!$A$42:$B$47,MATCH($C22,Lijsten!$B$42:$B$47,0),1),0) -> 0 | Y22: =IF(AND($L22>0,OR($B22="",$C22="",$I22="")),1,0) -> 0 | Z22: =+C22 -> 0 | AA22: =D22 -> 0
A23: 7 | L23: =+J23+K23 -> 0 | S23: =IFERROR(INDEX(Lijsten!$A$42:$B$47,MATCH($C23,Lijsten!$B$42:$B$47,0),1),0) -> 0 | Y23: =IF(AND($L23>0,OR($B23="",$C23="",$I23="")),1,0) -> 0 | Z23: =+C23 -> 0 | AA23: =D23 -> 0
A24: 8 | L24: =+J24+K24 -> 0 | S24: =IFERROR(INDEX(Lijsten!$A$42:$B$47,MATCH($C24,Lijsten!$B$42:$B$47,0),1),0) -> 0 | Y24: =IF(AND($L24>0,OR($B24="",$C24="",$I24="")),1,0) -> 0 | Z24: =+C24 -> 0 | AA24: =D24 -> 0
A25: 9 | L25: =+J25+K25 -> 0 | S25: =IFERROR(INDEX(Lijsten!$A$42:$B$47,MATCH($C25,Lijsten!$B$42:$B$47,0),1),0) -> 0 | Y25: =IF(AND($L25>0,OR($B25="",$C25="",$I25="")),1,0) -> 0 | Z25: =+C25 -> 0 | AA25: =D25 -> 0
A26: 10 | L26: =+J26+K26 -> 0 | S26: =IFERROR(INDEX(Lijsten!$A$42:$B$47,MATCH($C26,Lijsten!$B$42:$B$47,0),1),0) -> 0 | Y26: =IF(AND($L26>0,OR($B26="",$C26="",$I26="")),1,0) -> 0 | Z26: =+C26 -> 0 | AA26: =D26 -> 0
A27: SUBTOTAL DIRECT PERSONNEL COSTS | J27: =SUM(J17:J26) -> 0 | K27: =SUM(K17:K26) -> 0 | L27: =SUM(L17:L26) -> 0
L28: =IF(AND($T$6=2,L27>600000),"Note: No more than €600.000,- of the collaborative partners' personnel costs is eligible","")
A29: A2. Cost of own instruments and equipment for the project
A30: No. | B30: WP | C30: Activity Type | D30: Cost description | J30: Costs Year 1 | K30: Costs Year 2 | L30: Total Depreciation Costs | S30: Activity Type | T30: Empty | U30: Empty | V30: End date depreciation | W30: Max number of hours depreciation in Year 1 | X30: Max number of hours depreciation in Year 2 | Y30: Not fully completed
A31: 1 | L31: =+J31+K31 -> 0 | S31: =IFERROR(INDEX(Lijsten!$A$42:$B$47,MATCH($C31,Lijsten!$B$42:$B$47,0),1),0) -> 0 | V31: =IF(#REF!<>"",+#REF!+#REF!*365.25,"") -> #REF! | W31: =MAX((MIN($V$31,Project!$C$13+365)-Project!$C$13)*#REF!/365,0) -> #REF! | X31: =MAX((MIN($V$31,Project!$C$14)-(Project!$C$13+365-1))*#REF!/365,0) -> #REF! | Y31: =IF(AND($L31>0,OR($B31="",$C31="")),1,0) -> 0 | Z31: =+C31 -> 0 | AB31: =D31 -> 0
A32: 2 | L32: =+J32+K32 -> 0 | S32: =IFERROR(INDEX(Lijsten!$A$42:$B$47,MATCH($C32,Lijsten!$B$42:$B$47,0),1),0) -> 0 | V32: =IF(#REF!<>"",+#REF!+#REF!*365.25,"") -> #REF! | W32: =MAX((MIN($V$31,Project!$C$13+365)-Project!$C$13)*#REF!/365,0) -> #REF! | X32: =MAX((MIN($V$31,Project!$C$14)-(Project!$C$13+365-1))*#REF!/365,0) -> #REF! | Y32: =IF(AND($L32>0,OR($B32="",$C32="")),1,0) -> 0 | Z32: =+C32 -> 0 | AB32: =D32 -> 0
A33: 3 | L33: =+J33+K33 -> 0 | S33: =IFERROR(INDEX(Lijsten!$A$42:$B$47,MATCH($C33,Lijsten!$B$42:$B$47,0),1),0) -> 0 | V33: =IF(#REF!<>"",+#REF!+#REF!*365.25,"") -> #REF! | W33: =MAX((MIN($V$31,Project!$C$13+365)-Project!$C$13)*#REF!/365,0) -> #REF! | X33: =MAX((MIN($V$31,Project!$C$14)-(Project!$C$13+365-1))*#REF!/365,0) -> #REF! | Y33: =IF(AND($L33>0,OR($B33="",$C33="")),1,0) -> 0 | Z33: =+C33 -> 0 | AB33: =D33 -> 0
A34: 4 | L34: =+J34+K34 -> 0 | S34: =IFERROR(INDEX(Lijsten!$A$42:$B$47,MATCH($C34,Lijsten!$B$42:$B$47,0),1),0) -> 0 | V34: =IF(#REF!<>"",+#REF!+#REF!*365.25,"") -> #REF! | W34: =MAX((MIN($V$31,Project!$C$13+365)-Project!$C$13)*#REF!/365,0) -> #REF! | X34: =MAX((MIN($V$31,Project!$C$14)-(Project!$C$13+365-1))*#REF!/365,0) -> #REF! | Y34: =IF(AND($L34>0,OR($B34="",$C34="")),1,0) -> 0 | Z34: =+C34 -> 0 | AB34: =D34 -> 0
A35: 5 | L35: =+J35+K35 -> 0 | S35: =IFERROR(INDEX(Lijsten!$A$42:$B$47,MATCH($C35,Lijsten!$B$42:$B$47,0),1),0) -> 0 | V35: =IF(#REF!<>"",+#REF!+#REF!*365.25,"") -> #REF! | W35: =MAX((MIN($V$31,Project!$C$13+365)-Project!$C$13)*#REF!/365,0) -> #REF! | X35: =MAX((MIN($V$31,Project!$C$14)-(Project!$C$13+365-1))*#REF!/365,0) -> #REF! | Y35: =IF(AND($L35>0,OR($B35="",$C35="")),1,0) -> 0 | Z35: =+C35 -> 0 | AB35: =D35 -> 0
A36: SUBTOTAL COST OF OWN INSTRUMENTS AND EQUIPMENT | J36: =SUM(J31:J35) -> 0 | K36: =SUM(K31:K35) -> 0 | L36: =SUM(L31:L35) -> 0
A38: A3. Cost of own materials and tools
A39: No. | B39: WP | C39: Activity Type | D39: Cost description | J39: Costs Year 1 | K39: Costs Year 2 | L39: Total Costs | S39: Activity Type | T39: Empty | U39: Empty | V39: Empty | W39: Empty | X39: Empty | Y39: Not fully completed
A40: 1 | L40: =+J40+K40 -> 0 | S40: =IFERROR(INDEX(Lijsten!$A$42:$B$47,MATCH($C40,Lijsten!$B$42:$B$47,0),1),0) -> 0 | Y40: =IF(AND($L40>0,OR($B40="",$C40="")),1,0) -> 0 | Z40: =+C40 -> 0 | AB40: =D40 -> 0
A41: 2 | L41: =+J41+K41 -> 0 | S41: =IFERROR(INDEX(Lijsten!$A$42:$B$47,MATCH($C41,Lijsten!$B$42:$B$47,0),1),0) -> 0 | Y41: =IF(AND($L41>0,OR($B41="",$C41="")),1,0) -> 0 | Z41: =+C41 -> 0 | AB41: =D41 -> 0
A42: 3 | L42: =+J42+K42 -> 0 | S42: =IFERROR(INDEX(Lijsten!$A$42:$B$47,MATCH($C42,Lijsten!$B$42:$B$47,0),1),0) -> 0 | Y42: =IF(AND($L42>0,OR($B42="",$C42="")),1,0) -> 0 | Z42: =+C42 -> 0 | AB42: =D42 -> 0
A43: 4 | L43: =+J43+K43 -> 0 | S43: =IFERROR(INDEX(Lijsten!$A$42:$B$47,MATCH($C43,Lijsten!$B$42:$B$47,0),1),0) -> 0 | Y43: =IF(AND($L43>0,OR($B43="",$C43="")),1,0) -> 0 | Z43: =+C43 -> 0 | AB43: =D43 -> 0
A44: 5 | L44: =+J44+K44 -> 0 | S44: =IFERROR(INDEX(Lijsten!$A$42:$B$47,MATCH($C44,Lijsten!$B$42:$B$47,0),1),0) -> 0 | Y44: =IF(AND($L44>0,OR($B44="",$C44="")),1,0) -> 0 | Z44: =+C44 -> 0 | AB44: =D44 -> 0
A45: SUBTOTAL COST OF OWN MATERIALS AND TOOLS | J45: =SUM(J40:J44) -> 0 | K45: =SUM(K40:K44) -> 0 | L45: =SUM(L40:L44) -> 0
...

Sheet PP03
A1: STEP 2
A2: Complete budget of costs by project partner
A3: Budget per project partner
C5: Project ID: | F5: =IF(Project!$D$6="","",Project!$D$6)
C6: Project Type: | D6: =IF(Project!$C$9="","",Project!$C$9) -> Proof of Concept (POC) | S6: Project Type | T6: =IFERROR(INDEX(Lijsten!$A$12:$B$13,MATCH($D$6,Lijsten!$B$12:$B$13,0),1),"") -> 2
C7: Project Name: | D7: =IF(Project!$C$10="","",Project!$C$10)
C9: Project Partner Organization Name: | D9: =IF(Project!$C$19="","",Project!$C$19) | S9: Is BB BV? | T9: =IF(ISERROR(SEARCH("Biotech Booster",D9)),0,1) -> 0
C10: Organization Type: | D10: =IF(Project!$E$19="","",Project!$E$19) | S10: Organization Type | T10: =IFERROR(INDEX(Lijsten!$A$16:$B$23,MATCH($D$10,Lijsten!$B$16:$B$23,0),1),"")
S12: art 25 6b GBER (15%) | T12: =INDEX(Lijsten!$A$64:$B$65,MATCH(Project!$D$30,Lijsten!$B$64:$B$65,0),1) -> 2
A13: A. OVERVIEW OF COSTS | S13: art 25 6c GBER (5%) | T13: =INDEX(Lijsten!$A$64:$B$65,MATCH(Project!$D$33,Lijsten!$B$64:$B$65,0),1) -> 2
A15: A1. Direct Personnel costs | Q15: =IFERROR(IF(AND(#REF!=3,SUM(#REF!)/COUNT(#REF!)>60),"Max €60,00",""),"")
A16: No. | B16: WP | C16: Activity Type | D16: Cost description | H16: FTE | I16: =IF($T$6=1,"Appointment",IF($T$6=2,"Employment status","")) -> Employment status | J16: Costs Year 1 | K16: Costs Year 2 | L16: Total Costs | S16: Activity Type | T16: Empty | U16: Empty | V16: Empty | W16: Empty | X16: Empty | Y16: Not fully completed | Z16: These are auxiliary cells to automatically adjust the height of the rows based on the input. Do not delete them!
A17: 1 | L17: =+J17+K17 -> 0 | S17: =IFERROR(INDEX(Lijsten!$A$42:$B$47,MATCH($C17,Lijsten!$B$42:$B$47,0),1),0) -> 0 | Y17: =IF(AND($L17>0,OR($B17="",$C17="",$I17="")),1,0) -> 0 | Z17: =+C17 -> 0 | AA17: =D17 -> 0
A18: 2 | L18: =+J18+K18 -> 0 | S18: =IFERROR(INDEX(Lijsten!$A$42:$B$47,MATCH($C18,Lijsten!$B$42:$B$47,0),1),0) -> 0 | Y18: =IF(AND($L18>0,OR($B18="",$C18="",$I18="")),1,0) -> 0 | Z18: =+C18 -> 0 | AA18: =D18 -> 0
A19: 3 | L19: =+J19+K19 -> 0 | S19: =IFERROR(INDEX(Lijsten!$A$42:$B$47,MATCH($C19,Lijsten!$B$42:$B$47,0),1),0) -> 0 | Y19: =IF(AND($L19>0,OR($B19="",$C19="",$I19="")),1,0) -> 0 | Z19: =+C19 -> 0 | AA19: =D19 -> 0
A20: 4 | L20: =+J20+K20 -> 0 | S20: =IFERROR(INDEX(Lijsten!$A$42:$B$47,MATCH($C20,Lijsten!$B$42:$B$47,0),1),0) -> 0 | Y20: =IF(AND($L20>0,OR($B20="",$C20="",$I20="")),1,0) -> 0 | Z20: =+C20 -> 0 | AA20: =D20 -> 0
A21: 5 | L21: =+J21+K21 -> 0 | S21: =IFERROR(INDEX(Lijsten!$A$42:$B$47,MATCH($C21,Lijsten!$B$42:$B$47,0),1),0) -> 0 | Y21: =IF(AND($L21>0,OR($B21="",$C21="",$I21="")),1,0) -> 0 | Z21: =+C21 -> 0 | AA21: =D21 -> 0
A22: 6 | L22: =+J22+K22 -> 0 | S22: =IFERROR(INDEX(Lijsten!$A$42:$B$47,MATCH($C22,Lijsten!$B$42:$B$47,0),1),0) -> 0 | Y22: =IF(AND($L22>0,OR($B22="",$C22="",$I22="")),1,0) -> 0 | Z22: =+C22 -> 0 | AA22: =D22 -> 0
A23: 7 | L23: =+J23+K23 -> 0 | S23: =IFERROR(INDEX(Lijsten!$A$42:$B$47,MATCH($C23,Lijsten!$B$42:$B$47,0),1),0) -> 0 | Y23: =IF(AND($L23>0,OR($B23="",$C23="",$I23="")),1,0) -> 0 | Z23: =+C23 -> 0 | AA23: =D23 -> 0
A24: 8 | L24: =+J24+K24 -> 0 | S24: =IFERROR(INDEX(Lijsten!$A$42:$B$47,MATCH($C24,Lijsten!$B$42:$B$47,0),1),0) -> 0 | Y24: =IF(AND($L24>0,OR($B24="",$C24="",$I24="")),1,0) -> 0 | Z24: =+C24 -> 0 | AA24: =D24 -> 0
A25: 9 | L25: =+J25+K25 -> 0 | S25: =IFERROR(INDEX(Lijsten!$A$42:$B$47,MATCH($C25,Lijsten!$B$42:$B$47,0),1),0) -> 0 | Y25: =IF(AND($L25>0,OR($B25="",$C25="",$I25="")),1,0) -> 0 | Z25: =+C25 -> 0 | AA25: =D25 -> 0
A26: 10 | L26: =+J26+K26 -> 0 | S26: =IFERROR(INDEX(Lijsten!$A$42:$B$47,MATCH($C26,Lijsten!$B$42:$B$47,0),1),0) -> 0 | Y26: =IF(AND($L26>0,OR($B26="",$C26="",$I26="")),1,0) -> 0 | Z26: =+C26 -> 0 | AA26: =D26 -> 0
A27: SUBTOTAL DIRECT PERSONNEL COSTS | J27: =SUM(J17:J26) -> 0 | K27: =SUM(K17:K26) -> 0 | L27: =SUM(L17:L26) -> 0
L28: =IF(AND($T$6=2,L27>600000),"Note: No more than €600.000,- of the collaborative partners' personnel costs is eligible","")
A29: A2. Cost of own instruments and equipment for the project
A30: No. | B30: WP | C30: Activity Type | D30: Cost description | J30: Costs Year 1 | K30: Costs Year 2 | L30: Total Depreciation Costs | S30: Activity Type | T30: Empty | U30: Empty | V30: End date depreciation | W30: Max number of hours depreciation in Year 1 | X30: Max number of hours depreciation in Year 2 | Y30: Not fully completed
A31: 1 | L31: =+J31+K31 -> 0 | S31: =IFERROR(INDEX(Lijsten!$A$42:$B$47,MATCH($C31,Lijsten!$B$42:$B$47,0),1),0) -> 0 | V31: =IF(#REF!<>"",+#REF!+#REF!*365.25,"") -> #REF! | W31: =MAX((MIN($V$31,Project!$C$13+365)-Project!$C$13)*#REF!/365,0) -> #REF! | X31: =MAX((MIN($V$31,Project!$C$14)-(Project!$C$13+365-1))*#REF!/365,0) -> #REF! | Y31: =IF(AND($L31>0,OR($B31="",$C31="")),1,0) -> 0 | Z31: =+C31 -> 0 | AB31: =D31 -> 0
A32: 2 | L32: =+J32+K32 -> 0 | S32: =IFERROR(INDEX(Lijsten!$A$42:$B$47,MATCH($C32,Lijsten!$B$42:$B$47,0),1),0) -> 0 | V32: =IF(#REF!<>"",+#REF!+#REF!*365.25,"") -> #REF! | W32: =MAX((MIN($V$31,Project!$C$13+365)-Project!$C$13)*#REF!/365,0) -> #REF! | X32: =MAX((MIN($V$31,Project!$C$14)-(Project!$C$13+365-1))*#REF!/365,0) -> #REF! | Y32: =IF(AND($L32>0,OR($B32="",$C32="")),1,0) -> 0 | Z32: =+C32 -> 0 | AB32: =D32 -> 0
A33: 3 | L33: =+J33+K33 -> 0 | S33: =IFERROR(INDEX(Lijsten!$A$42:$B$47,MATCH($C33,Lijsten!$B$42:$B$47,0),1),0) -> 0 | V33: =IF(#REF!<>"",+#REF!+#REF!*365.25,"") -> #REF! | W33: =MAX((MIN($V$31,Project!$C$13+365)-Project!$C$13)*#REF!/365,0) -> #REF! | X33: =MAX((MIN($V$31,Project!$C$14)-(Project!$C$13+365-1))*#REF!/365,0) -> #REF! | Y33: =IF(AND($L33>0,OR($B33="",$C33="")),1,0) -> 0 | Z33: =+C33 -> 0 | AB33: =D33 -> 0
A34: 4 | L34: =+J34+K34 -> 0 | S34: =IFERROR(INDEX(Lijsten!$A$42:$B$47,MATCH($C34,Lijsten!$B$42:$B$47,0),1),0) -> 0 | V34: =IF(#REF!<>"",+#REF!+#REF!*365.25,"") -> #REF! | W34: =MAX((MIN($V$31,Project!$C$13+365)-Project!$C$13)*#REF!/365,0) -> #REF! | X34: =MAX((MIN($V$31,Project!$C$14)-(Project!$C$13+365-1))*#REF!/365,0) -> #REF! | Y34: =IF(AND($L34>0,OR($B34="",$C34="")),1,0) -> 0 | Z34: =+C34 -> 0 | AB34: =D34 -> 0
A35: 5 | L35: =+J35+K35 -> 0 | S35: =IFERROR(INDEX(Lijsten!$A$42:$B$47,MATCH($C35,Lijsten!$B$42:$B$47,0),1),0) -> 0 | V35: =IF(#REF!<>"",+#REF!+#REF!*365.25,"") -> #REF! | W35: =MAX((MIN($V$31,Project!$C$13+365)-Project!$C$13)*#REF!/365,0) -> #REF! | X35: =MAX((MIN($V$31,Project!$C$14)-(Project!$C$13+365-1))*#REF!/365,0) -> #REF! | Y35: =IF(AND($L35>0,OR($B35="",$C35="")),1,0) -> 0 | Z35: =+C35 -> 0 | AB35: =D35 -> 0
A36: SUBTOTAL COST OF OWN INSTRUMENTS AND EQUIPMENT | J36: =SUM(J31:J35) -> 0 | K36: =SUM(K31:K35) -> 0 | L36: =SUM(L31:L35) -> 0
A38: A3. Cost of own materials and tools
A39: No. | B39: WP | C39: Activity Type | D39: Cost description | J39: Costs Year 1 | K39: Costs Year 2 | L39: Total Costs | S39: Activity Type | T39: Empty | U39: Empty | V39: Empty | W39: Empty | X39: Empty | Y39: Not fully completed
A40: 1 | L40: =+J40+K40 -> 0 | S40: =IFERROR(INDEX(Lijsten!$A$42:$B$47,MATCH($C40,Lijsten!$B$42:$B$47,0),1),0) -> 0 | Y40: =IF(AND($L40>0,OR($B40="",$C40="")),1,0) -> 0 | Z40: =+C40 -> 0 | AB40: =D40 -> 0
A41: 2 | L41: =+J41+K41 -> 0 | S41: =IFERROR(INDEX(Lijsten!$A$42:$B$47,MATCH($C41,Lijsten!$B$42:$B$47,0),1),0) -> 0 | Y41: =IF(AND($L41>0,OR($B41="",$C41="")),1,0) -> 0 | Z41: =+C41 -> 0 | AB41: =D41 -> 0
A42: 3 | L42: =+J42+K42 -> 0 | S42: =IFERROR(INDEX(Lijsten!$A$42:$B$47,MATCH($C42,Lijsten!$B$42:$B$47,0),1),0) -> 0 | Y42: =IF(AND($L42>0,OR($B42="",$C42="")),1,0) -> 0 | Z42: =+C42 -> 0 | AB42: =D42 -> 0
A43: 4 | L43: =+J43+K43 -> 0 | S43: =IFERROR(INDEX(Lijsten!$A$42:$B$47,MATCH($C43,Lijsten!$B$42:$B$47,0),1),0) -> 0 | Y43: =IF(AND($L43>0,OR($B43="",$C43="")),1,0) -> 0 | Z43: =+C43 -> 0 | AB43: =D43 -> 0
A44: 5 | L44: =+J44+K44 -> 0 | S44: =IFERROR(INDEX(Lijsten!$A$42:$B$47,MATCH($C44,Lijsten!$B$42:$B$47,0),1),0) -> 0 | Y44: =IF(AND($L44>0,OR($B44="",$C44="")),1,0) -> 0 | Z44: =+C44 -> 0 | AB44: =D44 -> 0
A45: SUBTOTAL COST OF OWN MATERIALS AND TOOLS | J45: =SUM(J40:J44) -> 0 | K45: =SUM(K40:K44) -> 0 | L45: =SUM(L40:L44) -> 0
...

Sheet PP04
A1: STEP 2
A2: Complete budget of costs by project partner
A3: Budget per project partner
C5: Project ID: | F5: =IF(Project!$D$6="","",Project!$D$6)
C6: Project Type: | D6: =IF(Project!$C$9="","",Project!$C$9) -> Proof of Concept (POC) | S6: Project Type | T6: =IFERROR(INDEX(Lijsten!$A$12:$B$13,MATCH($D$6,Lijsten!$B$12:$B$13,0),1),"") -> 2
C7: Project Name: | D7: =IF(Project!$C$10="","",Project!$C$10)
C9: Project Partner Organization Name: | D9: =IF(Project!$C$20="","",Project!$C$20) | S9: Is BB BV? | T9: =IF(ISERROR(SEARCH("Biotech Booster",D9)),0,1) -> 0
C10: Organization Type: | D10: =IF(Project!$E$20="","",Project!$E$20) | S10: Organization Type | T10: =IFERROR(INDEX(Lijsten!$A$16:$B$23,MATCH($D$10,Lijsten!$B$16:$B$23,0),1),"")
S12: art 25 6b GBER (15%) | T12: =INDEX(Lijsten!$A$64:$B$65,MATCH(Project!$D$30,Lijsten!$B$64:$B$65,0),1) -> 2
A13: A. OVERVIEW OF COSTS | S13: art 25 6c GBER (5%) | T13: =INDEX(Lijsten!$A$64:$B$65,MATCH(Project!$D$33,Lijsten!$B$64:$B$65,0),1) -> 2
A15: A1. Direct Personnel costs | Q15: =IFERROR(IF(AND(#REF!=3,SUM(#REF!)/COUNT(#REF!)>60),"Max €60,00",""),"")
A16: No. | B16: WP | C16: Activity Type | D16: Cost description | H16: FTE | I16: =IF($T$6=1,"Appointment",IF($T$6=2,"Employment status","")) -> Employment status | J16: Costs Year 1 | K16: Costs Year 2 | L16: Total Costs | S16: Activity Type | T16: Empty | U16: Empty | V16: Empty | W16: Empty | X16: Empty | Y16: Not fully completed | Z16: These are auxiliary cells to automatically adjust the height of the rows based on the input. Do not delete them!
A17: 1 | L17: =+J17+K17 -> 0 | S17: =IFERROR(INDEX(Lijsten!$A$42:$B$47,MATCH($C17,Lijsten!$B$42:$B$47,0),1),0) -> 0 | Y17: =IF(AND($L17>0,OR($B17="",$C17="",$I17="")),1,0) -> 0 | Z17: =+C17 -> 0 | AA17: =D17 -> 0
A18: 2 | L18: =+J18+K18 -> 0 | S18: =IFERROR(INDEX(Lijsten!$A$42:$B$47,MATCH($C18,Lijsten!$B$42:$B$47,0),1),0) -> 0 | Y18: =IF(AND($L18>0,OR($B18="",$C18="",$I18="")),1,0) -> 0 | Z18: =+C18 -> 0 | AA18: =D18 -> 0
A19: 3 | L19: =+J19+K19 -> 0 | S19: =IFERROR(INDEX(Lijsten!$A$42:$B$47,MATCH($C19,Lijsten!$B$42:$B$47,0),1),0) -> 0 | Y19: =IF(AND($L19>0,OR($B19="",$C19="",$I19="")),1,0) -> 0 | Z19: =+C19 -> 0 | AA19: =D19 -> 0
A20: 4 | L20: =+J20+K20 -> 0 | S20: =IFERROR(INDEX(Lijsten!$A$42:$B$47,MATCH($C20,Lijsten!$B$42:$B$47,0),1),0) -> 0 | Y20: =IF(AND($L20>0,OR($B20="",$C20="",$I20="")),1,0) -> 0 | Z20: =+C20 -> 0 | AA20: =D20 -> 0
A21: 5 | L21: =+J21+K21 -> 0 | S21: =IFERROR(INDEX(Lijsten!$A$42:$B$47,MATCH($C21,Lijsten!$B$42:$B$47,0),1),0) -> 0 | Y21: =IF(AND($L21>0,OR($B21="",$C21="",$I21="")),1,0) -> 0 | Z21: =+C21 -> 0 | AA21: =D21 -> 0
A22: 6 | L22: =+J22+K22 -> 0 | S22: =IFERROR(INDEX(Lijsten!$A$42:$B$47,MATCH($C22,Lijsten!$B$42:$B$47,0),1),0) -> 0 | Y22: =IF(AND($L22>0,OR($B22="",$C22="",$I22="")),1,0) -> 0 | Z22: =+C22 -> 0 | AA22: =D22 -> 0
A23: 7 | L23: =+J23+K23 -> 0 | S23: =IFERROR(INDEX(Lijsten!$A$42:$B$47,MATCH($C23,Lijsten!$B$42:$B$47,0),1),0) -> 0 | Y23: =IF(AND($L23>0,OR($B23="",$C23="",$I23="")),1,0) -> 0 | Z23: =+C23 -> 0 | AA23: =D23 -> 0
A24: 8 | L24: =+J24+K24 -> 0 | S24: =IFERROR(INDEX(Lijsten!$A$42:$B$47,MATCH($C24,Lijsten!$B$42:$B$47,0),1),0) -> 0 | Y24: =IF(AND($L24>0,OR($B24="",$C24="",$I24="")),1,0) -> 0 | Z24: =+C24 -> 0 | AA24: =D24 -> 0
A25: 9 | L25: =+J25+K25 -> 0 | S25: =IFERROR(INDEX(Lijsten!$A$42:$B$47,MATCH($C25,Lijsten!$B$42:$B$47,0),1),0) -> 0 | Y25: =IF(AND($L25>0,OR($B25="",$C25="",$I25="")),1,0) -> 0 | Z25: =+C25 -> 0 | AA25: =D25 -> 0
A26: 10 | L26: =+J26+K26 -> 0 | S26: =IFERROR(INDEX(Lijsten!$A$42:$B$47,MATCH($C26,Lijsten!$B$42:$B$47,0),1),0) -> 0 | Y26: =IF(AND($L26>0,OR($B26="",$C26="",$I26="")),1,0) -> 0 | Z26: =+C26 -> 0 | AA26: =D26 -> 0
A27: SUBTOTAL DIRECT PERSONNEL COSTS | J27: =SUM(J17:J26) -> 0 | K27: =SUM(K17:K26) -> 0 | L27: =SUM(L17:L26) -> 0
L28: =IF(AND($T$6=2,L27>600000),"Note: No more than €600.000,- of the collaborative partners' personnel costs is eligible","")
A29: A2. Cost of own instruments and equipment for the project
A30: No. | B30: WP | C30: Activity Type | D30: Cost description | J30: Costs Year 1 | K30: Costs Year 2 | L30: Total Depreciation Costs | S30: Activity Type | T30: Empty | U30: Empty | V30: End date depreciation | W30: Max number of hours depreciation in Year 1 | X30: Max number of hours depreciation in Year 2 | Y30: Not fully completed
A31: 1 | L31: =+J31+K31 -> 0 | S31: =IFERROR(INDEX(Lijsten!$A$42:$B$47,MATCH($C31,Lijsten!$B$42:$B$47,0),1),0) -> 0 | V31: =IF(#REF!<>"",+#REF!+#REF!*365.25,"") -> #REF! | W31: =MAX((MIN($V$31,Project!$C$13+365)-Project!$C$13)*#REF!/365,0) -> #REF! | X31: =MAX((MIN($V$31,Project!$C$14)-(Project!$C$13+365-1))*#REF!/365,0) -> #REF! | Y31: =IF(AND($L31>0,OR($B31="",$C31="")),1,0) -> 0 | Z31: =+C31 -> 0 | AB31: =D31 -> 0
A32: 2 | L32: =+J32+K32 -> 0 | S32: =IFERROR(INDEX(Lijsten!$A$42:$B$47,MATCH($C32,Lijsten!$B$42:$B$47,0),1),0) -> 0 | V32: =IF(#REF!<>"",+#REF!+#REF!*365.25,"") -> #REF! | W32: =MAX((MIN($V$31,Project!$C$13+365)-Project!$C$13)*#REF!/365,0) -> #REF! | X32: =MAX((MIN($V$31,Project!$C$14)-(Project!$C$13+365-1))*#REF!/365,0) -> #REF! | Y32: =IF(AND($L32>0,OR($B32="",$C32="")),1,0) -> 0 | Z32: =+C32 -> 0 | AB32: =D32 -> 0
A33: 3 | L33: =+J33+K33 -> 0 | S33: =IFERROR(INDEX(Lijsten!$A$42:$B$47,MATCH($C33,Lijsten!$B$42:$B$47,0),1),0) -> 0 | V33: =IF(#REF!<>"",+#REF!+#REF!*365.25,"") -> #REF! | W33: =MAX((MIN($V$31,Project!$C$13+365)-Project!$C$13)*#REF!/365,0) -> #REF! | X33: =MAX((MIN($V$31,Project!$C$14)-(Project!$C$13+365-1))*#REF!/365,0) -> #REF! | Y33: =IF(AND($L33>0,OR($B33="",$C33="")),1,0) -> 0 | Z33: =+C33 -> 0 | AB33: =D33 -> 0
A34: 4 | L34: =+J34+K34 -> 0 | S34: =IFERROR(INDEX(Lijsten!$A$42:$B$47,MATCH($C34,Lijsten!$B$42:$B$47,0),1),0) -> 0 | V34: =IF(#REF!<>"",+#REF!+#REF!*365.25,"") -> #REF! | W34: =MAX((MIN($V$31,Project!$C$13+365)-Project!$C$13)*#REF!/365,0) -> #REF! | X34: =MAX((MIN($V$31,Project!$C$14)-(Project!$C$13+365-1))*#REF!/365,0) -> #REF! | Y34: =IF(AND($L34>0,OR($B34="",$C34="")),1,0) -> 0 | Z34: =+C34 -> 0 | AB34: =D34 -> 0
A35: 5 | L35: =+J35+K35 -> 0 | S35: =IFERROR(INDEX(Lijsten!$A$42:$B$47,MATCH($C35,Lijsten!$B$42:$B$47,0),1),0) -> 0 | V35: =IF(#REF!<>"",+#REF!+#REF!*365.25,"") -> #REF! | W35: =MAX((MIN($V$31,Project!$C$13+365)-Project!$C$13)*#REF!/365,0) -> #REF! | X35: =MAX((MIN($V$31,Project!$C$14)-(Project!$C$13+365-1))*#REF!/365,0) -> #REF! | Y35: =IF(AND($L35>0,OR($B35="",$C35="")),1,0) -> 0 | Z35: =+C35 -> 0 | AB35: =D35 -> 0
A36: SUBTOTAL COST OF OWN INSTRUMENTS AND EQUIPMENT | J36: =SUM(J31:J35) -> 0 | K36: =SUM(K31:K35) -> 0 | L36: =SUM(L31:L35) -> 0
A38: A3. Cost of own materials and tools
A39: No. | B39: WP | C39: Activity Type | D39: Cost description | J39: Costs Year 1 | K39: Costs Year 2 | L39: Total Costs | S39: Activity Type | T39: Empty | U39: Empty | V39: Empty | W39: Empty | X39: Empty | Y39: Not fully completed
A40: 1 | L40: =+J40+K40 -> 0 | S40: =IFERROR(INDEX(Lijsten!$A$42:$B$47,MATCH($C40,Lijsten!$B$42:$B$47,0),1),0) -> 0 | Y40: =IF(AND($L40>0,OR($B40="",$C40="")),1,0) -> 0 | Z40: =+C40 -> 0 | AB40: =D40 -> 0
A41: 2 | L41: =+J41+K41 -> 0 | S41: =IFERROR(INDEX(Lijsten!$A$42:$B$47,MATCH($C41,Lijsten!$B$42:$B$47,0),1),0) -> 0 | Y41: =IF(AND($L41>0,OR($B41="",$C41="")),1,0) -> 0 | Z41: =+C41 -> 0 | AB41: =D41 -> 0
A42: 3 | L42: =+J42+K42 -> 0 | S42: =IFERROR(INDEX(Lijsten!$A$42:$B$47,MATCH($C42,Lijsten!$B$42:$B$47,0),1),0) -> 0 | Y42: =IF(AND($L42>0,OR($B42="",$C42="")),1,0) -> 0 | Z42: =+C42 -> 0 | AB42: =D42 -> 0
A43: 4 | L43: =+J43+K43 -> 0 | S43: =IFERROR(INDEX(Lijsten!$A$42:$B$47,MATCH($C43,Lijsten!$B$42:$B$47,0),1),0) -> 0 | Y43: =IF(AND($L43>0,OR($B43="",$C43="")),1,0) -> 0 | Z43: =+C43 -> 0 | AB43: =D43 -> 0
A44: 5 | L44: =+J44+K44 -> 0 | S44: =IFERROR(INDEX(Lijsten!$A$42:$B$47,MATCH($C44,Lijsten!$B$42:$B$47,0),1),0) -> 0 | Y44: =IF(AND($L44>0,OR($B44="",$C44="")),1,0) -> 0 | Z44: =+C44 -> 0 | AB44: =D44 -> 0
A45: SUBTOTAL COST OF OWN MATERIALS AND TOOLS | J45: =SUM(J40:J44) -> 0 | K45: =SUM(K40:K44) -> 0 | L45: =SUM(L40:L44) -> 0
...

Sheet PP05
A1: STEP 2
A2: Complete budget of costs by project partner
A3: Budget per project partner
C5: Project ID: | F5: =IF(Project!$D$6="","",Project!$D$6)
C6: Project Type: | D6: =IF(Project!$C$9="","",Project!$C$9) -> Proof of Concept (POC) | S6: Project Type | T6: =IFERROR(INDEX(Lijsten!$A$12:$B$13,MATCH($D$6,Lijsten!$B$12:$B$13,0),1),"") -> 2
C7: Project Name: | D7: =IF(Project!$C$10="","",Project!$C$10)
C9: Project Partner Organization Name: | D9: =IF(Project!$C$21="","",Project!$C$21) | S9: Is BB BV? | T9: =IF(ISERROR(SEARCH("Biotech Booster",D9)),0,1) -> 0
C10: Organization Type: | D10: =IF(Project!$E$21="","",Project!$E$21) | S10: Organization Type | T10: =IFERROR(INDEX(Lijsten!$A$16:$B$23,MATCH($D$10,Lijsten!$B$16:$B$23,0),1),"")
S12: art 25 6b GBER (15%) | T12: =INDEX(Lijsten!$A$64:$B$65,MATCH(Project!$D$30,Lijsten!$B$64:$B$65,0),1) -> 2
A13: A. OVERVIEW OF COSTS | S13: art 25 6c GBER (5%) | T13: =INDEX(Lijsten!$A$64:$B$65,MATCH(Project!$D$33,Lijsten!$B$64:$B$65,0),1) -> 2
A15: A1. Direct Personnel costs | Q15: =IFERROR(IF(AND(#REF!=3,SUM(#REF!)/COUNT(#REF!)>60),"Max €60,00",""),"")
A16: No. | B16: WP | C16: Activity Type | D16: Cost description | H16: FTE | I16: =IF($T$6=1,"Appointment",IF($T$6=2,"Employment status","")) -> Employment status | J16: Costs Year 1 | K16: Costs Year 2 | L16: Total Costs | S16: Activity Type | T16: Empty | U16: Empty | V16: Empty | W16: Empty | X16: Empty | Y16: Not fully completed | Z16: These are auxiliary cells to automatically adjust the height of the rows based on the input. Do not delete them!
A17: 1 | L17: =+J17+K17 -> 0 | S17: =IFERROR(INDEX(Lijsten!$A$42:$B$47,MATCH($C17,Lijsten!$B$42:$B$47,0),1),0) -> 0 | Y17: =IF(AND($L17>0,OR($B17="",$C17="",$I17="")),1,0) -> 0 | Z17: =+C17 -> 0 | AA17: =D17 -> 0
A18: 2 | L18: =+J18+K18 -> 0 | S18: =IFERROR(INDEX(Lijsten!$A$42:$B$47,MATCH($C18,Lijsten!$B$42:$B$47,0),1),0) -> 0 | Y18: =IF(AND($L18>0,OR($B18="",$C18="",$I18="")),1,0) -> 0 | Z18: =+C18 -> 0 | AA18: =D18 -> 0
A19: 3 | L19: =+J19+K19 -> 0 | S19: =IFERROR(INDEX(Lijsten!$A$42:$B$47,MATCH($C19,Lijsten!$B$42:$B$47,0),1),0) -> 0 | Y19: =IF(AND($L19>0,OR($B19="",$C19="",$I19="")),1,0) -> 0 | Z19: =+C19 -> 0 | AA19: =D19 -> 0
A20: 4 | L20: =+J20+K20 -> 0 | S20: =IFERROR(INDEX(Lijsten!$A$42:$B$47,MATCH($C20,Lijsten!$B$42:$B$47,0),1),0) -> 0 | Y20: =IF(AND($L20>0,OR($B20="",$C20="",$I20="")),1,0) -> 0 | Z20: =+C20 -> 0 | AA20: =D20 -> 0
A21: 5 | L21: =+J21+K21 -> 0 | S21: =IFERROR(INDEX(Lijsten!$A$42:$B$47,MATCH($C21,Lijsten!$B$42:$B$47,0),1),0) -> 0 | Y21: =IF(AND($L21>0,OR($B21="",$C21="",$I21="")),1,0) -> 0 | Z21: =+C21 -> 0 | AA21: =D21 -> 0
A22: 6 | L22: =+J22+K22 -> 0 | S22: =IFERROR(INDEX(Lijsten!$A$42:$B$47,MATCH($C22,Lijsten!$B$42:$B$47,0),1),0) -> 0 | Y22: =IF(AND($L22>0,OR($B22="",$C22="",$I22="")),1,0) -> 0 | Z22: =+C22 -> 0 | AA22: =D22 -> 0
A23: 7 | L23: =+J23+K23 -> 0 | S23: =IFERROR(INDEX(Lijsten!$A$42:$B$47,MATCH($C23,Lijsten!$B$42:$B$47,0),1),0) -> 0 | Y23: =IF(AND($L23>0,OR($B23="",$C23="",$I23="")),1,0) -> 0 | Z23: =+C23 -> 0 | AA23: =D23 -> 0
A24: 8 | L24: =+J24+K24 -> 0 | S24: =IFERROR(INDEX(Lijsten!$A$42:$B$47,MATCH($C24,Lijsten!$B$42:$B$47,0),1),0) -> 0 | Y24: =IF(AND($L24>0,OR($B24="",$C24="",$I24="")),1,0) -> 0 | Z24: =+C24 -> 0 | AA24: =D24 -> 0
A25: 9 | L25: =+J25+K25 -> 0 | S25: =IFERROR(INDEX(Lijsten!$A$42:$B$47,MATCH($C25,Lijsten!$B$42:$B$47,0),1),0) -> 0 | Y25: =IF(AND($L25>0,OR($B25="",$C25="",$I25="")),1,0) -> 0 | Z25: =+C25 -> 0 | AA25: =D25 -> 0
A26: 10 | L26: =+J26+K26 -> 0 | S26: =IFERROR(INDEX(Lijsten!$A$42:$B$47,MATCH($C26,Lijsten!$B$42:$B$47,0),1),0) -> 0 | Y26: =IF(AND($L26>0,OR($B26="",$C26="",$I26="")),1,0) -> 0 | Z26: =+C26 -> 0 | AA26: =D26 -> 0
A27: SUBTOTAL DIRECT PERSONNEL COSTS | J27: =SUM(J17:J26) -> 0 | K27: =SUM(K17:K26) -> 0 | L27: =SUM(L17:L26) -> 0
L28: =IF(AND($T$6=2,L27>600000),"Note: No more than €600.000,- of the collaborative partners' personnel costs is eligible","")
A29: A2. Cost of own instruments and equipment for the project
A30: No. | B30: WP | C30: Activity Type | D30: Cost description | J30: Costs Year 1 | K30: Costs Year 2 | L30: Total Depreciation Costs | S30: Activity Type | T30: Empty | U30: Empty | V30: End date depreciation | W30: Max number of hours depreciation in Year 1 | X30: Max number of hours depreciation in Year 2 | Y30: Not fully completed
A31: 1 | L31: =+J31+K31 -> 0 | S31: =IFERROR(INDEX(Lijsten!$A$42:$B$47,MATCH($C31,Lijsten!$B$42:$B$47,0),1),0) -> 0 | V31: =IF(#REF!<>"",+#REF!+#REF!*365.25,"") -> #REF! | W31: =MAX((MIN($V$31,Project!$C$13+365)-Project!$C$13)*#REF!/365,0) -> #REF! | X31: =MAX((MIN($V$31,Project!$C$14)-(Project!$C$13+365-1))*#REF!/365,0) -> #REF! | Y31: =IF(AND($L31>0,OR($B31="",$C31="")),1,0) -> 0 | Z31: =+C31 -> 0 | AB31: =D31 -> 0
A32: 2 | L32: =+J32+K32 -> 0 | S32: =IFERROR(INDEX(Lijsten!$A$42:$B$47,MATCH($C32,Lijsten!$B$42:$B$47,0),1),0) -> 0 | V32: =IF(#REF!<>"",+#REF!+#REF!*365.25,"") -> #REF! | W32: =MAX((MIN($V$31,Project!$C$13+365)-Project!$C$13)*#REF!/365,0) -> #REF! | X32: =MAX((MIN($V$31,Project!$C$14)-(Project!$C$13+365-1))*#REF!/365,0) -> #REF! | Y32: =IF(AND($L32>0,OR($B32="",$C32="")),1,0) -> 0 | Z32: =+C32 -> 0 | AB32: =D32 -> 0
A33: 3 | L33: =+J33+K33 -> 0 | S33: =IFERROR(INDEX(Lijsten!$A$42:$B$47,MATCH($C33,Lijsten!$B$42:$B$47,0),1),0) -> 0 | V33: =IF(#REF!<>"",+#REF!+#REF!*365.25,"") -> #REF! | W33: =MAX((MIN($V$31,Project!$C$13+365)-Project!$C$13)*#REF!/365,0) -> #REF! | X33: =MAX((MIN($V$31,Project!$C$14)-(Project!$C$13+365-1))*#REF!/365,0) -> #REF! | Y33: =IF(AND($L33>0,OR($B33="",$C33="")),1,0) -> 0 | Z33: =+C33 -> 0 | AB33: =D33 -> 0
A34: 4 | L34: =+J34+K34 -> 0 | S34: =IFERROR(INDEX(Lijsten!$A$42:$B$47,MATCH($C34,Lijsten!$B$42:$B$47,0),1),0) -> 0 | V34: =IF(#REF!<>"",+#REF!+#REF!*365.25,"") -> #REF! | W34: =MAX((MIN($V$31,Project!$C$13+365)-Project!$C$13)*#REF!/365,0) -> #REF! | X34: =MAX((MIN($V$31,Project!$C$14)-(Project!$C$13+365-1))*#REF!/365,0) -> #REF! | Y34: =IF(AND($L34>0,OR($B34="",$C34="")),1,0) -> 0 | Z34: =+C34 -> 0 | AB34: =D34 -> 0
A35: 5 | L35: =+J35+K35 -> 0 | S35: =IFERROR(INDEX(Lijsten!$A$42:$B$47,MATCH($C35,Lijsten!$B$42:$B$47,0),1),0) -> 0 | V35: =IF(#REF!<>"",+#REF!+#REF!*365.25,"") -> #REF! | W35: =MAX((MIN($V$31,Project!$C$13+365)-Project!$C$13)*#REF!/365,0) -> #REF! | X35: =MAX((MIN($V$31,Project!$C$14)-(Project!$C$13+365-1))*#REF!/365,0) -> #REF! | Y35: =IF(AND($L35>0,OR($B35="",$C35="")),1,0) -> 0 | Z35: =+C35 -> 0 | AB35: =D35 -> 0
A36: SUBTOTAL COST OF OWN INSTRUMENTS AND EQUIPMENT | J36: =SUM(J31:J35) -> 0 | K36: =SUM(K31:K35) -> 0 | L36: =SUM(L31:L35) -> 0
A38: A3. Cost of own materials and tools
A39: No. | B39: WP | C39: Activity Type | D39: Cost description | J39: Costs Year 1 | K39: Costs Year 2 | L39: Total Costs | S39: Activity Type | T39: Empty | U39: Empty | V39: Empty | W39: Empty | X39: Empty | Y39: Not fully completed
A40: 1 | L40: =+J40+K40 -> 0 | S40: =IFERROR(INDEX(Lijsten!$A$42:$B$47,MATCH($C40,Lijsten!$B$42:$B$47,0),1),0) -> 0 | Y40: =IF(AND($L40>0,OR($B40="",$C40="")),1,0) -> 0 | Z40: =+C40 -> 0 | AB40: =D40 -> 0
A41: 2 | L41: =+J41+K41 -> 0 | S41: =IFERROR(INDEX(Lijsten!$A$42:$B$47,MATCH($C41,Lijsten!$B$42:$B$47,0),1),0) -> 0 | Y41: =IF(AND($L41>0,OR($B41="",$C41="")),1,0) -> 0 | Z41: =+C41 -> 0 | AB41: =D41 -> 0
A42: 3 | L42: =+J42+K42 -> 0 | S42: =IFERROR(INDEX(Lijsten!$A$42:$B$47,MATCH($C42,Lijsten!$B$42:$B$47,0),1),0) -> 0 | Y42: =IF(AND($L42>0,OR($B42="",$C42="")),1,0) -> 0 | Z42: =+C42 -> 0 | AB42: =D42 -> 0
A43: 4 | L43: =+J43+K43 -> 0 | S43: =IFERROR(INDEX(Lijsten!$A$42:$B$47,MATCH($C43,Lijsten!$B$42:$B$47,0),1),0) -> 0 | Y43: =IF(AND($L43>0,OR($B43="",$C43="")),1,0) -> 0 | Z43: =+C43 -> 0 | AB43: =D43 -> 0
A44: 5 | L44: =+J44+K44 -> 0 | S44: =IFERROR(INDEX(Lijsten!$A$42:$B$47,MATCH($C44,Lijsten!$B$42:$B$47,0),1),0) -> 0 | Y44: =IF(AND($L44>0,OR($B44="",$C44="")),1,0) -> 0 | Z44: =+C44 -> 0 | AB44: =D44 -> 0
A45: SUBTOTAL COST OF OWN MATERIALS AND TOOLS | J45: =SUM(J40:J44) -> 0 | K45: =SUM(K40:K44) -> 0 | L45: =SUM(L40:L44) -> 0
...

Sheet PP06
A1: STEP 2
A2: Complete budget of costs by project partner
A3: Budget per project partner
C5: Project ID: | F5: =IF(Project!$D$6="","",Project!$D$6)
C6: Project Type: | D6: =IF(Project!$C$9="","",Project!$C$9) -> Proof of Concept (POC) | S6: Project Type | T6: =IFERROR(INDEX(Lijsten!$A$12:$B$13,MATCH($D$6,Lijsten!$B$12:$B$13,0),1),"") -> 2
C7: Project Name: | D7: =IF(Project!$C$10="","",Project!$C$10)
C9: Project Partner Organization Name: | D9: =IF(Project!$C$22="","",Project!$C$22) | S9: Is BB BV? | T9: =IF(ISERROR(SEARCH("Biotech Booster",D9)),0,1) -> 0
C10: Organization Type: | D10: =IF(Project!$E$22="","",Project!$E$22) | S10: Organization Type | T10: =IFERROR(INDEX(Lijsten!$A$16:$B$23,MATCH($D$10,Lijsten!$B$16:$B$23,0),1),"")
S12: art 25 6b GBER (15%) | T12: =INDEX(Lijsten!$A$64:$B$65,MATCH(Project!$D$30,Lijsten!$B$64:$B$65,0),1) -> 2
A13: A. OVERVIEW OF COSTS | S13: art 25 6c GBER (5%) | T13: =INDEX(Lijsten!$A$64:$B$65,MATCH(Project!$D$33,Lijsten!$B$64:$B$65,0),1) -> 2
A15: A1. Direct Personnel costs | Q15: =IFERROR(IF(AND(#REF!=3,SUM(#REF!)/COUNT(#REF!)>60),"Max €60,00",""),"")
A16: No. | B16: WP | C16: Activity Type | D16: Cost description | H16: FTE | I16: =IF($T$6=1,"Appointment",IF($T$6=2,"Employment status","")) -> Employment status | J16: Costs Year 1 | K16: Costs Year 2 | L16: Total Costs | S16: Activity Type | T16: Empty | U16: Empty | V16: Empty | W16: Empty | X16: Empty | Y16: Not fully completed | Z16: These are auxiliary cells to automatically adjust the height of the rows based on the input. Do not delete them!
A17: 1 | L17: =+J17+K17 -> 0 | S17: =IFERROR(INDEX(Lijsten!$A$42:$B$47,MATCH($C17,Lijsten!$B$42:$B$47,0),1),0) -> 0 | Y17: =IF(AND($L17>0,OR($B17="",$C17="",$I17="")),1,0) -> 0 | Z17: =+C17 -> 0 | AA17: =D17 -> 0
A18: 2 | L18: =+J18+K18 -> 0 | S18: =IFERROR(INDEX(Lijsten!$A$42:$B$47,MATCH($C18,Lijsten!$B$42:$B$47,0),1),0) -> 0 | Y18: =IF(AND($L18>0,OR($B18="",$C18="",$I18="")),1,0) -> 0 | Z18: =+C18 -> 0 | AA18: =D18 -> 0
A19: 3 | L19: =+J19+K19 -> 0 | S19: =IFERROR(INDEX(Lijsten!$A$42:$B$47,MATCH($C19,Lijsten!$B$42:$B$47,0),1),0) -> 0 | Y19: =IF(AND($L19>0,OR($B19="",$C19="",$I19="")),1,0) -> 0 | Z19: =+C19 -> 0 | AA19: =D19 -> 0
A20: 4 | L20: =+J20+K20 -> 0 | S20: =IFERROR(INDEX(Lijsten!$A$42:$B$47,MATCH($C20,Lijsten!$B$42:$B$47,0),1),0) -> 0 | Y20: =IF(AND($L20>0,OR($B20="",$C20="",$I20="")),1,0) -> 0 | Z20: =+C20 -> 0 | AA20: =D20 -> 0
A21: 5 | L21: =+J21+K21 -> 0 | S21: =IFERROR(INDEX(Lijsten!$A$42:$B$47,MATCH($C21,Lijsten!$B$42:$B$47,0),1),0) -> 0 | Y21: =IF(AND($L21>0,OR($B21="",$C21="",$I21="")),1,0) -> 0 | Z21: =+C21 -> 0 | AA21: =D21 -> 0
A22: 6 | L22: =+J22+K22 -> 0 | S22: =IFERROR(INDEX(Lijsten!$A$42:$B$47,MATCH($C22,Lijsten!$B$42:$B$47,0),1),0) -> 0 | Y22: =IF(AND($L22>0,OR($B22="",$C22="",$I22="")),1,0) -> 0 | Z22: =+C22 -> 0 | AA22: =D22 -> 0
A23: 7 | L23: =+J23+K23 -> 0 | S23: =IFERROR(INDEX(Lijsten!$A$42:$B$47,MATCH($C23,Lijsten!$B$42:$B$47,0),1),0) -> 0 | Y23: =IF(AND($L23>0,OR($B23="",$C23="",$I23="")),1,0) -> 0 | Z23: =+C23 -> 0 | AA23: =D23 -> 0
A24: 8 | L24: =+J24+K24 -> 0 | S24: =IFERROR(INDEX(Lijsten!$A$42:$B$47,MATCH($C24,Lijsten!$B$42:$B$47,0),1),0) -> 0 | Y24: =IF(AND($L24>0,OR($B24="",$C24="",$I24="")),1,0) -> 0 | Z24: =+C24 -> 0 | AA24: =D24 -> 0
A25: 9 | L25: =+J25+K25 -> 0 | S25: =IFERROR(INDEX(Lijsten!$A$42:$B$47,MATCH($C25,Lijsten!$B$42:$B$47,0),1),0) -> 0 | Y25: =IF(AND($L25>0,OR($B25="",$C25="",$I25="")),1,0) -> 0 | Z25: =+C25 -> 0 | AA25: =D25 -> 0
A26: 10 | L26: =+J26+K26 -> 0 | S26: =IFERROR(INDEX(Lijsten!$A$42:$B$47,MATCH($C26,Lijsten!$B$42:$B$47,0),1),0) -> 0 | Y26: =IF(AND($L26>0,OR($B26="",$C26="",$I26="")),1,0) -> 0 | Z26: =+C26 -> 0 | AA26: =D26 -> 0
A27: SUBTOTAL DIRECT PERSONNEL COSTS | J27: =SUM(J17:J26) -> 0 | K27: =SUM(K17:K26) -> 0 | L27: =SUM(L17:L26) -> 0
L28: =IF(AND($T$6=2,L27>600000),"Note: No more than €600.000,- of the collaborative partners' personnel costs is eligible","")
A29: A2. Cost of own instruments and equipment for the project
